BEGIN:VCALENDAR
VERSION:2.0
PRODID:icalendar-ruby
CALSCALE:GREGORIAN
METHOD:PUBLISH
BEGIN:VEVENT
DTSTAMP:20260423T004438Z
UID:7-358823@clcimpact.org
DTSTART:20261021T230000Z
DTEND:20261022T003000Z
CLASS:PUBLIC
CREATED:20260422T194622
DESCRIPTION:Join us for Bible Study as we gather online to grow deeper in G
 od’s Word through discussion\, prayer\, and practical teaching. Whether 
 you’re new to the faith or have been walking with God for years\, there
 ’s a place for you here.\nFirst time joining us online? We’re so glad 
 you’re here and look forward to connecting with you!\nDress comfortably 
 and join us from wherever you are.\nThis study is hosted live on Zoom. Cli
 ck the link to join at the scheduled time.
LAST-MODIFIED:20260422T194622
LOCATION:Online via Zoom
SUMMARY:Bible Study
URL;VALUE=URI:https://clcimpact.org/events/bible-study/2026-10-21
ATTACH;FILENAME=758EFBBA-6F26-4AE3-8BF1-5D64D83ED8D2.PNG;FMTTYPE=image/png:
 https://dq5pwpg1q8ru0.cloudfront.net/2025/12/09/04/15/00/19e2bc64-6fa6-43b
 d-bfdf-05e0918e02ad/758EFBBA-6F26-4AE3-8BF1-5D64D83ED8D2.PNG
END:VEVENT
END:VCALENDAR
