BEGIN:VCALENDAR
VERSION:2.0
PRODID:icalendar-ruby
CALSCALE:GREGORIAN
METHOD:PUBLISH
BEGIN:VEVENT
DTSTAMP:20260425T014452Z
UID:11-361986@clcimpact.org
DTSTART:20261018T150000Z
DTEND:20261018T170000Z
CLASS:PUBLIC
CREATED:20260424T192538
DESCRIPTION:Join us this Sunday for worship\, prayer\, and a powerful word 
 from God. Come as you are and experience a welcoming atmosphere where fait
 h\, family\, and community come together. Worship with us in person or onl
 ine—everyone is welcome!\nIf this is your first time visiting\, we would
  love to welcome you personally—just stop by the Guest Welcome area when
  you arrive.\nDress comfortably—come as you are. Whether casual or dress
 ed up\, you are welcome here.\nParking is available on the gymnasium side 
 of the building. Please enter through the gymnasium doors.
LAST-MODIFIED:20260424T192538
LOCATION:1100 Philadelphia Road Joppatowne\, MD 21085 (Enter Through Gymnas
 ium Doors)
SUMMARY:Worship Service
URL;VALUE=URI:https://clcimpact.org/events/worship-service--10/2026-10-18
ATTACH;FILENAME=EC9A1538-6B1C-4C8D-BF98-357C656932CB.jpg;FMTTYPE=image/jpeg
 :https://dq5pwpg1q8ru0.cloudfront.net/2026/01/18/13/19/11/11dacff8-a0e7-4f
 dd-8ff5-b2a53dd99c7e/EC9A1538-6B1C-4C8D-BF98-357C656932CB.jpg
END:VEVENT
END:VCALENDAR
